BEGIN:VCALENDAR
VERSION:2.0
PRODID:-//ical@die-hamburgische-staatsoper.de//NONSGML kigkonsult.se iCalcreator 2.41.92//
CALSCALE:GREGORIAN
METHOD:PUBLISH
UID:64386364-6339-4031-a130-346566653536
X-WR-CALNAME:Hamburgische Staatsoper
X-WR-CALDESC:
X-WR-RELCALID:f2ede4d6-30b8-4980-8217-ee440378fafb
X-WR-TIMEZONE:Europe/Berlin
BEGIN:VTIMEZONE
TZID:Europe/Berlin
TZUNTIL:20281029T010000Z
BEGIN:STANDARD
TZNAME:CET
DTSTART:20261025T030000
TZOFFSETFROM:+0200
TZOFFSETTO:+0100
RDATE:20271031T030000
END:STANDARD
BEGIN:DAYLIGHT
TZNAME:CEST
DTSTART:20260329T020000
TZOFFSETFROM:+0100
TZOFFSETTO:+0200
RDATE:20270328T020000
RDATE:20280326T020000
END:DAYLIGHT
END:VTIMEZONE
BEGIN:VEVENT
UID:293435@die-hamburgische-staatsoper.de
DTSTAMP:20260419T205845Z
CLASS:PUBLIC
DTSTART;TZID=Europe/Berlin:20261107T123000
DTEND;TZID=Europe/Berlin:20261107T143000
LOCATION:Staatsoper\, Probebühne 2
SEQUENCE:1
SUMMARY:Workshop für Familien
TRANSP:OPAQUE
END:VEVENT
END:VCALENDAR
